BEGIN:VCALENDAR
VERSION:2.0
PRODID:-//Wickenburg Social - ECPv6.15.20//NONSGML v1.0//EN
CALSCALE:GREGORIAN
METHOD:PUBLISH
X-ORIGINAL-URL:https://wickenburgsocial.com
X-WR-CALDESC:Events for Wickenburg Social
REFRESH-INTERVAL;VALUE=DURATION:PT1H
X-Robots-Tag:noindex
X-PUBLISHED-TTL:PT1H
BEGIN:VTIMEZONE
TZID:America/Phoenix
BEGIN:STANDARD
TZOFFSETFROM:-0700
TZOFFSETTO:-0700
TZNAME:MST
DTSTART:20240101T000000
END:STANDARD
END:VTIMEZONE
BEGIN:VEVENT
DTSTART;TZID=America/Phoenix:20250208T100000
DTEND;TZID=America/Phoenix:20250325T160000
DTSTAMP:20260422T152856
CREATED:20250213T190919Z
LAST-MODIFIED:20260311T185657Z
UID:11213-1739008800-1742918400@wickenburgsocial.com
SUMMARY:Double Takes 2025
DESCRIPTION:Join us once again for Double Takes\, but this year\, get ready for an exciting twist that will ignite your imagination! This unique exhibition showcases captivating photographs submitted by talented photographers\, paired with stunning artistic interpretations by local artists. Each photograph serves as a creative springboard\, inspiring artists to reimagine the scene using a wide range of media\, including painting\, mixed media\, digital art\, pottery\, jewelry\, woodwork\, and more. The result is a dynamic and diverse collection of works that celebrate the synergy between photography and artistic expression. Visitors will have the rare opportunity to see the original photographs displayed side by side with their artistic reinterpretations\, offering a fascinating glimpse into the creative process and the boundless possibilities of art. Don’t miss this visually inspiring experience! \n \nDouble Takes Reception \nArtist Reception for this exhibit is open to the public.\n\nDate and Time\n\nSaturday\, February 8\, 2025\, 4:30 AM until 6:00 PM\n\n\n\nLocation\nWickenburg Art Center\n188 S Tegner\nWickenburg \, AZ  85390\nUSA\n\n928-684-0483\n\nEvent Contact(s)\nGabriele E Bitter: gabrielebitter@gmail.com
URL:https://wickenburgsocial.com/event/double-takes-2025/
LOCATION:Wickenburg Art Center & Gallery\, 188 S. Tegner\, WICKENBURG\, AZ\, 85390-1122\, United States
CATEGORIES:Art Exhibition,Community Event
ATTACH;FMTTYPE=image/webp:https://wickenburgsocial.com/wp-content/uploads/2025/02/Latest-Exhibit-e1739383122362.webp
ORGANIZER;CN="Wickenburg Art Center & Gallery":MAILTO:wickenburgartcenter@gmail.com
END:VEVENT
BEGIN:VEVENT
DTSTART;TZID=America/Phoenix:20250315T113000
DTEND;TZID=America/Phoenix:20250315T140000
DTSTAMP:20260422T152856
CREATED:20250307T200410Z
LAST-MODIFIED:20260311T185655Z
UID:11526-1742038200-1742047200@wickenburgsocial.com
SUMMARY:Guys Who Grill
DESCRIPTION:BUY TICKETS HERE\n$50 VIP | $20 General Admission | $10 Youth 5-10 | FREE 4 & Younger\nFresh Food. Cold Beer. Live Music. \nGrilling teams from across the state descend on Wickenburg to compete in this heated battle for bragging rights. Spend a fun-filled afternoon savoring all-you-can-sample BBQ\, tapping your toes to live music\, and casting your vote for the People’s Choice Award. \nVIP Tent tickets provide All-You-Can-Sample direct food service and reserved shade seating. Sample food from all of the participating teams. The event traditionally hosts 12-15 competition teams offering pulled pork\, chicken wings\, brisket and more! \nGeneral Admission tickets provide an All-You-Can-Sample pass to the event. Picnic tables and hay bales available for seating. Lawn chairs & blankets are welcome. Pets are not allowed. \nGuys Who Grill features live music from an Arizona based band. Raffle tickets and beverages require an additional purchase. \nTeam registration forms and information contact Janet Lang at 928-684-6610 or jlang@dewpac.org. \nGuys Who Grill – Because all men grill. And all men think they are the best! \nThis fun-filled community-wide barbecuing and grilling competition raises funds in support of the Webb Center’s “Arts for Kids” programs including Camp Imagination. \nFor More Events
URL:https://wickenburgsocial.com/event/guys-who-grill-2/
LOCATION:Wickenburg Community Center\, 160 N Valentine St\, Wickenburg\, AZ\, 85390\, United States
CATEGORIES:Community Event,Event
ATTACH;FMTTYPE=image/jpeg:https://wickenburgsocial.com/wp-content/uploads/2025/03/Event-Image-944x648-1.jpg
ORGANIZER;CN="Webb Center%E2%80%99s %E2%80%9CArts for Kids%E2%80%9D programs":MAILTO:jlang@dewpac.org
END:VEVENT
END:VCALENDAR