BEGIN:VCALENDAR
VERSION:2.0
PRODID:-//Wickenburg Social - ECPv6.15.20//NONSGML v1.0//EN
CALSCALE:GREGORIAN
METHOD:PUBLISH
X-WR-CALNAME:Wickenburg Social
X-ORIGINAL-URL:https://wickenburgsocial.com
X-WR-CALDESC:Events for Wickenburg Social
REFRESH-INTERVAL;VALUE=DURATION:PT1H
X-Robots-Tag:noindex
X-PUBLISHED-TTL:PT1H
BEGIN:VTIMEZONE
TZID:America/Phoenix
BEGIN:STANDARD
TZOFFSETFROM:-0700
TZOFFSETTO:-0700
TZNAME:MST
DTSTART:20240101T000000
END:STANDARD
END:VTIMEZONE
BEGIN:VEVENT
DTSTART;VALUE=DATE:20250328
DTEND;VALUE=DATE:20250331
DTSTAMP:20260421T224025
CREATED:20250317T213729Z
LAST-MODIFIED:20260311T185653Z
UID:11839-1743120000-1743379199@wickenburgsocial.com
SUMMARY:5th Annual Party In The Desert
DESCRIPTION:The 5th Annual Party in the Desert is bringing three days of true country music under the stars at Flying E Ranch in Wickenburg\, AZ!\nMarch 28th – March 30th\, 2025\, we’re turning up the heat with an incredible lineup\, camping\, vendors\, and the best country vibes in the Sonoran Desert.\n\n\n\n Official Lineup: Friday\, March 28th – Lonestar\, Wade Hayes\, & Local Artists Saturday\, March 29th – Parmalee\, Mae Estes\, Braxton Keith\, & Local Artists Sunday\, March 30th – Mark Chesnutt\, Suzy Bogguss\, & Local Artists\n What to Expect: Live Country Music – Legendary artists & rising stars. Camping Under the Stars – Wake up to breathtaking desert views. Delicious Food & Vendors – Western goods\, local eats\, and festival favorites. The Ultimate Western Experience – Hosted at Flying E Ranch\, a historic dude ranch in the heart of cowboy country.\nFlyingERanch.com/Partyinthedesert2025Questions? Call us 928-684-2690\nTag your friends\, grab your boots\, and get ready for a weekend of real country music in one of Arizona’s most beautiful locations! Don’t wait – tickets are selling fast! \n\n#PartyInTheDesert #CountryMusic #FlyingERanch #TrueCountryMusic #WesternVibes \nSee less
URL:https://wickenburgsocial.com/event/5th-annual-party-in-the-desert/
LOCATION:Flying E Ranch\, 2801 W Wickenburg Way\, Wickenburg\, AZ\, 85390\, United States
CATEGORIES:Concert,Event
ATTACH;FMTTYPE=image/webp:https://wickenburgsocial.com/wp-content/uploads/2025/03/Wickenburg-Social-Flying-E.webp
ORGANIZER;CN="Flying E Ranch":MAILTO:Info@flyingeranch.com
END:VEVENT
BEGIN:VEVENT
DTSTART;TZID=America/Phoenix:20250328T080000
DTEND;TZID=America/Phoenix:20250525T170000
DTSTAMP:20260421T224025
CREATED:20250107T202806Z
LAST-MODIFIED:20260311T185653Z
UID:10986-1743148800-1748192400@wickenburgsocial.com
SUMMARY:20th Annual Cowgirl Up!
DESCRIPTION:In 2005\, Desert Caballeros Western Museum embraced a revolutionary idea: an annual exhibition showcasing the brightest contemporary female artists working in the Western genre. In the male-dominated world of Western Art\, Cowgirl Up! turned the spotlight squarely on women’s voices and perspectives\, serving up a new\, deeper understanding of the American West. Over a decade later\, CU! remains one of the major national events for Western women artists. \n \nCowgirl Up! is a crossroads where artists\, collectors\, and art enthusiasts come together to explore what it means to be a Western artist. CU! artists ride the range of techniques\, styles\, and mediums\, traditional and contemporary. \nYour purchase of original artworks supports the endeavors of women artists working today and of the Desert Caballeros Western Museum. CU! art can be bought throughout the run of the exhibition at the Museum or online. \nThe Cowgirl Up! exhibition is divided into two parts: a gallery of “miniatures” and a gallery of full-sized art. Artwork in the Main gallery should remain on display throughout the exhibition and will be available for pick-up or delivery after May 25\, 2025. \nBuy Tickets to Opening Weekend!
URL:https://wickenburgsocial.com/event/20th-annual-cowgirl-up/
LOCATION:The Desert Caballeros Western Museum\, 21 North Frontier Street\, Wickenburg\, 85390\, United States
CATEGORIES:Art Exhibition,Community Event,Event
ATTACH;FMTTYPE=image/webp:https://wickenburgsocial.com/wp-content/uploads/2025/01/2025-Cowgirl-Up.webp
ORGANIZER;CN="Desert Caballeros Western Museum":MAILTO:cchaves@westernmuseum.org
END:VEVENT
END:VCALENDAR