BEGIN:VCALENDAR
VERSION:2.0
PRODID:-//Wickenburg Social - ECPv6.15.20//NONSGML v1.0//EN
CALSCALE:GREGORIAN
METHOD:PUBLISH
X-ORIGINAL-URL:https://wickenburgsocial.com
X-WR-CALDESC:Events for Wickenburg Social
REFRESH-INTERVAL;VALUE=DURATION:PT1H
X-Robots-Tag:noindex
X-PUBLISHED-TTL:PT1H
BEGIN:VTIMEZONE
TZID:America/Phoenix
BEGIN:STANDARD
TZOFFSETFROM:-0700
TZOFFSETTO:-0700
TZNAME:MST
DTSTART:20250101T000000
END:STANDARD
END:VTIMEZONE
BEGIN:VEVENT
DTSTART;TZID=America/Phoenix:20260116T171500
DTEND;TZID=America/Phoenix:20260116T201500
DTSTAMP:20260420T191843
CREATED:20251230T172039Z
LAST-MODIFIED:20260311T185629Z
UID:16055-1768583700-1768594500@wickenburgsocial.com
SUMMARY:The Winter Roundup
DESCRIPTION:Social 5:15 PM\nChuckwagon Dinner 6:15 PM\nLive & Silent Auction\nSpecial Guest: Mike Beers \nTickets are $65 per person or $1\,000 for a corporate table that seats 8. Tickets can be purchased by calling 701.623.2000 ext 4 or by visiting northdakotacowboy.org/events \nHosted by District 13 Trustees
URL:https://wickenburgsocial.com/event/the-winter-roundup/
LOCATION:Wickenburg Community Center\, Wickenburg Community Center
ATTACH;FMTTYPE=image/jpeg:https://wickenburgsocial.com/wp-content/uploads/2025/12/576184293_1715010612886419_8234294225494772378_n.jpg
END:VEVENT
END:VCALENDAR