BEGIN:VCALENDAR
VERSION:2.0
PRODID:-//Wickenburg Social - ECPv6.15.20//NONSGML v1.0//EN
CALSCALE:GREGORIAN
METHOD:PUBLISH
X-ORIGINAL-URL:https://wickenburgsocial.com
X-WR-CALDESC:Events for Wickenburg Social
REFRESH-INTERVAL;VALUE=DURATION:PT1H
X-Robots-Tag:noindex
X-PUBLISHED-TTL:PT1H
BEGIN:VTIMEZONE
TZID:America/Phoenix
BEGIN:STANDARD
TZOFFSETFROM:-0700
TZOFFSETTO:-0700
TZNAME:MST
DTSTART:20250101T000000
END:STANDARD
END:VTIMEZONE
BEGIN:VEVENT
DTSTART;TZID=America/Phoenix:20260120T193000
DTEND;TZID=America/Phoenix:20260120T223000
DTSTAMP:20260420T175302
CREATED:20251230T172042Z
LAST-MODIFIED:20260311T185626Z
UID:16067-1768937400-1768948200@wickenburgsocial.com
SUMMARY:Frankie Avalon
DESCRIPTION:All-In Ticket Prices Start at $59 ($55 + $4) \nGet ready for a nostalgic night of charm and charisma with teen idol legend Frankie Avalon! From chart-topping hits like “Venus” and “Why” to his iconic roles in the Beach Party films\, Avalon brings the golden era of rock ’n’ roll back to life with his unique style and energy. With stories from his celebrated career and songs that defined a generation\, this unforgettable evening will have you singing along\, smiling wide\, and reliving the magic of the 1950s and ’60s.
URL:https://wickenburgsocial.com/event/frankie-avalon/
LOCATION:1090 S Vulture Mine Rd\, Wickenburg\, AZ\, United States\, Arizona 85390\, 1090 S Vulture Mine Rd\, Wickenburg\, AZ\, United States\, Arizona 85390
END:VEVENT
END:VCALENDAR