BEGIN:VCALENDAR
VERSION:2.0
PRODID:-//Wickenburg Social - ECPv6.15.20//NONSGML v1.0//EN
CALSCALE:GREGORIAN
METHOD:PUBLISH
X-WR-CALNAME:Wickenburg Social
X-ORIGINAL-URL:https://wickenburgsocial.com
X-WR-CALDESC:Events for Wickenburg Social
REFRESH-INTERVAL;VALUE=DURATION:PT1H
X-Robots-Tag:noindex
X-PUBLISHED-TTL:PT1H
BEGIN:VTIMEZONE
TZID:America/Phoenix
BEGIN:STANDARD
TZOFFSETFROM:-0700
TZOFFSETTO:-0700
TZNAME:MST
DTSTART:20250101T000000
END:STANDARD
END:VTIMEZONE
BEGIN:VEVENT
DTSTART;TZID=America/Phoenix:20260401T080000
DTEND;TZID=America/Phoenix:20260523T170000
DTSTAMP:20260419T075449
CREATED:20260403T180018Z
LAST-MODIFIED:20260403T180018Z
UID:17574-1775030400-1779555600@wickenburgsocial.com
SUMMARY:“Wild Things”   NEW EXHIBIT WICKENBURG ART CENTER & GALLERY
DESCRIPTION:The Wickenburg Art Club\, cornerstone of Wickenburg’s art community since the 1960’s\, is alerting the community that Wild Things are happening at the Wickenburg Art Center and Gallery!  Wild Things\, the gallery’s latest juried art exhibition starts April Fool’s Day (not kidding!) and runs from April 1 through May 23.  Close to fifty pieces of Wild Things art\, both 2-D and 3-D\, will be displayed Tuesdays through Saturdays from 10:00am to 4:00pm at the Wickenburg Art Center & Gallery\, located at 188 South Tegner Street. \nWild Things at the Wickenburg Art Center & Gallery Thru May 23 \n “No matter how you define Wild Things we’ve got it in an artistic form\,” noted Sharon Maurina\, Gallery Director of Wickenburg Art Center & Gallery.  “You may think Wild Things refers to nouns – animals or plants in a natural environment. Or you may think Wild Things is a verb – living by instinct\, free of restraint\, outside of the norm.  Perhaps you think Wild Things is an adjective – amazing\, unbelievable\, bold\, powerful\, authentic.  However you define Wild Things\, you’ll find it and love it at the Wild Things art exhibit” \n The public is invited to view and enjoy unbridled talent at the Wild Things exhibit from April 1 to May 23\, 2026. They are also invited to meet the artists\, while enjoying light refreshments\, during a complimentary reception on Saturday\, April 11th from 4:30pm to 6:00pm at the Wickenburg Art Center & Gallery.\n\n Wickenburg Art Club is a 501 (c)3 organization dedicated to encouraging and exhibiting creative works of art\, providing a fellowship venue for artists\, craft persons and friends of the arts. We serve more than 200 talented members\, representing a variety of mediums\, from our office\, studios and gallery at 188 S. Tegner in Wickenburg\, AZ.\n 
URL:https://wickenburgsocial.com/event/wild-things-new-exhibit-wickenburg-art-center-gallery/
LOCATION:Wickenburg Art Center & Gallery\, 188 S. Tegner\, WICKENBURG\, AZ\, 85390-1122\, United States
CATEGORIES:Art Exhibition
ATTACH;FMTTYPE=image/webp:https://wickenburgsocial.com/wp-content/uploads/2026/04/Wild-Things-Header_Wickenburg-Art-Center.webp
END:VEVENT
BEGIN:VEVENT
DTSTART;TZID=America/Phoenix:20260419T080000
DTEND;TZID=America/Phoenix:20260419T100000
DTSTAMP:20260419T075449
CREATED:20260225T192142Z
LAST-MODIFIED:20260403T175619Z
UID:16719-1776585600-1776592800@wickenburgsocial.com
SUMMARY:Rattle Snake Avoidance
DESCRIPTION:RATTLE SNAKE AVOIDANCE TRAINING\nwith K9 Konnection and Viper Voidance started back up again with this class Sunday November 23rd. \nDogs are NOT naturally afraid of rattlesnakes like we are\, Over 150\,000 dogs are bitten by snakes every year . Rattlesnakes are still active\, and are still out in cooler months. \nIf you live or take your dog into rattlesnake country\, what are you going to do if your dog is bitten? \nDon’t take the chance! Get your dog trained! \nThe training is simple and effective. \nYour dog will learn to identify the smell of a rattlesnake and then to avoid it. \nWe use a live\, unaltered rattlesnakes\, kept in a strike-proof cage with plenty of venting so your dog can get close and get a good smell of rattlesnake. \nWe also have re-testing if you have previously attended our class. \nThe training is held in Wickenburg in the back parking lot of Twisted Dogwood\, class spots fill up quickly. The training only takes 15 minutes! $125 for first time training (discount for multiple dogs)\, and $45 for refresh training for dogs previously trained with us. \nCall Leigh at 951-821-0999 to register.
URL:https://wickenburgsocial.com/event/rattle-snake-avoidance/
LOCATION:The Twisted Dogwood\, The Twisted Dogwood
CATEGORIES:Community Event
ATTACH;FMTTYPE=image/png:https://wickenburgsocial.com/wp-content/uploads/2023/05/Wickenburg-Social-Rattlesnake-header.png
END:VEVENT
END:VCALENDAR