BEGIN:VCALENDAR
VERSION:2.0
PRODID:-//Wickenburg Social - ECPv6.15.20//NONSGML v1.0//EN
CALSCALE:GREGORIAN
METHOD:PUBLISH
X-WR-CALNAME:Wickenburg Social
X-ORIGINAL-URL:https://wickenburgsocial.com
X-WR-CALDESC:Events for Wickenburg Social
REFRESH-INTERVAL;VALUE=DURATION:PT1H
X-Robots-Tag:noindex
X-PUBLISHED-TTL:PT1H
BEGIN:VTIMEZONE
TZID:America/Phoenix
BEGIN:STANDARD
TZOFFSETFROM:-0700
TZOFFSETTO:-0700
TZNAME:MST
DTSTART:20230101T000000
END:STANDARD
END:VTIMEZONE
BEGIN:VEVENT
DTSTART;VALUE=DATE:20241204
DTEND;VALUE=DATE:20241222
DTSTAMP:20260423T090405
CREATED:20241205T214451Z
LAST-MODIFIED:20260311T185700Z
UID:10519-1733270400-1734825599@wickenburgsocial.com
SUMMARY:Wickenburg Art Center & Gallery: Gallery Of Gifts
DESCRIPTION:Holiday Gift Shopping at the Wickenburg Art Center & Gallery\nFrom December 4 to December 21\, the Wickenburg Art Center & Gallery invites you to celebrate the season with Gallery of Gifts\, your one-stop shop for unique\, handcrafted holiday treasures. Admission is free and we’re open to the public! \nLocated at 188 Tegner Street\, Wickenburg\, Arizona\, our newly renovated gallery is brimming with beautiful\, one-of-a-kind creations made by talented Wickenburg Art Center members. From sparkling jewelry and intricate ceramics to painted gourds\, stunning watercolors\, acrylic paintings\, fiber art\, and captivating photography\, there’s something for everyone on your holiday gift list. \nWhy Choose Handmade Gifts?\nHandmade gifts are special—they carry the love\, care\, and individuality of the artist who created them. Each piece tells a story\, making it more personal and meaningful. Whether it’s the slight wonkiness of a ceramic bowl or the unique brushstroke of a painting\, these little imperfections add to the charm and beauty of the piece. \nGallery Hours:\nThe Wickenburg Art Center & Gallery is open Tues – Fri 9 am – 2 pm & Saturday 10 am – 4 pm Stop by during our regular business hours to browse\, shop\, and soak in the festive atmosphere. Discover gifts that are as unique as the people you’re shopping for\, while supporting local artists and our vibrant creative community. \nAdmission is free and we’re open to the public! \nMake your holiday shopping experience delightful and memorable. Visit us at the Wickenburg Art Center & Gallery’s Gallery of Gifts\, and find the perfect present to light up the season. Handmade gifts are the kindest gifts of all. \nSee you there!
URL:https://wickenburgsocial.com/event/wickenburg-art-center-gallery-gallery-of-gifts/
LOCATION:Wickenburg Art Center & Gallery\, 188 S. Tegner\, WICKENBURG\, AZ\, 85390-1122\, United States
CATEGORIES:Community Event,Event
ATTACH;FMTTYPE=image/webp:https://wickenburgsocial.com/wp-content/uploads/2024/12/WAC-Gallery-Of-Gifts-Placeholder-2.webp
ORGANIZER;CN="Wickenburg Art Center & Gallery":MAILTO:wickenburgartcenter@gmail.com
END:VEVENT
BEGIN:VEVENT
DTSTART;TZID=America/Phoenix:20241213T183000
DTEND;TZID=America/Phoenix:20241213T210000
DTSTAMP:20260423T090405
CREATED:20241205T203939Z
LAST-MODIFIED:20260311T185659Z
UID:10488-1734114600-1734123600@wickenburgsocial.com
SUMMARY:30th Annual Christmas Parade of Lights
DESCRIPTION:The annual Christmas Parade of Lights is back for its 30th year and will be bringing holiday cheer to Wickenburg! \nThe Parade of Lights is a free\, family-fun event. After the parade\, children have the opportunity to meet and take photos with Santa by the train on Frontier Street. Maverik gas station will be providing delicious hot chocolate and cookies for all to enjoy! \nThis glittering holiday event is produced by the Wickenburg Chamber of Commerce and sponsored by the Town of Wickenburg. \nVisitors are encouraged to shop and eat with local businesses before or after the event. We also encourage visitors to drive through neighborhoods to see the festive Christmas light displays that adorn local homes each year. \nBring Christmas Home from Wickenburg! \n\n\nPARADE ROUTE AND INFORMATION\n\n\nBring your chairs and blankets! The official parade map will be available at a later date.
URL:https://wickenburgsocial.com/event/30th-annual-christmas-parade-of-lights/
LOCATION:Downtown Wickenburg
CATEGORIES:Community Event,Event
ATTACH;FMTTYPE=image/webp:https://wickenburgsocial.com/wp-content/uploads/2024/12/Wickenburg-Social-Parade-of-Lights.webp
END:VEVENT
END:VCALENDAR