BEGIN:VCALENDAR
VERSION:2.0
PRODID:-//Wickenburg Social - ECPv6.15.20//NONSGML v1.0//EN
CALSCALE:GREGORIAN
METHOD:PUBLISH
X-WR-CALNAME:Wickenburg Social
X-ORIGINAL-URL:https://wickenburgsocial.com
X-WR-CALDESC:Events for Wickenburg Social
REFRESH-INTERVAL;VALUE=DURATION:PT1H
X-Robots-Tag:noindex
X-PUBLISHED-TTL:PT1H
BEGIN:VTIMEZONE
TZID:America/Phoenix
BEGIN:STANDARD
TZOFFSETFROM:-0700
TZOFFSETTO:-0700
TZNAME:MST
DTSTART:20240101T000000
END:STANDARD
END:VTIMEZONE
BEGIN:VEVENT
DTSTART;TZID=America/Phoenix:20250723T180000
DTEND;TZID=America/Phoenix:20250723T210000
DTSTAMP:20260423T222742
CREATED:20250722T192334Z
LAST-MODIFIED:20260311T185645Z
UID:14261-1753293600-1753304400@wickenburgsocial.com
SUMMARY:WICKENBURG WEDNESDAY'S JULY 23\, 2025
DESCRIPTION:Are you ready for a fun night of shopping in Downtown Wickenburg? We have such a variety of businesses that will be opened for extended hours\, local artist and much more!\n \nThis Upcoming Wickenburg Wednesday is going to be the largest one YET! .Here is an update business and vendor list!Rusty RoosterSerape BleuCowgirl Bling BlingSeven Roan Western WearPour Jo Coffee WickenburgSadie DawgsThe Elote ManBark & Brew Coffee LLCAloha Buckaroo BoutiqueJLM The Store WickenburgHunt & Hook – Kc CowanLisa BrowAzucar BitesThe Drifting WillowDesert Chicas Jewelry co.Wickenburg Antiques & ArtisansWickenburg High School Riffle TeamPaisley Mae Beauty & AestheticsR & R AlternativesSkylar Jo PhotographyBarb’s Boho Spirit JewelryDazzle Creations BoutiqueTwoFive FarmAdri’s Cookie ChaosKristen ColeDeviously DoughliciousGranny Bs Good StuffJasmine Laaker Baked GoodsWickenburg MarshalsSewn With Fire Welded Iron Art WorksDesert Light FarmButtermilk & Honey BakeshopJosi’s Golden PanDeb’s Ear CandyThe Aesthetics FirmAls Beads by AlyceMcCleary’s Mother Cluckers Ranch GoodsReiki ReflectWorking Horse Massage\, LLCWickenburg Chamber of Commerce.We are pretty full! 
URL:https://wickenburgsocial.com/event/wickenburg-wednesdays-july-23-2025/
LOCATION:Behind Rusty Rooster\, 186 N Tegner St\, WICKENBURG\, AZ\, 85390\, United States
CATEGORIES:Event
END:VEVENT
END:VCALENDAR