BEGIN:VCALENDAR
VERSION:2.0
PRODID:-//Wickenburg Social - ECPv6.15.20//NONSGML v1.0//EN
CALSCALE:GREGORIAN
METHOD:PUBLISH
X-ORIGINAL-URL:https://wickenburgsocial.com
X-WR-CALDESC:Events for Wickenburg Social
REFRESH-INTERVAL;VALUE=DURATION:PT1H
X-Robots-Tag:noindex
X-PUBLISHED-TTL:PT1H
BEGIN:VTIMEZONE
TZID:America/Phoenix
BEGIN:STANDARD
TZOFFSETFROM:-0700
TZOFFSETTO:-0700
TZNAME:MST
DTSTART:20250101T000000
END:STANDARD
END:VTIMEZONE
BEGIN:VEVENT
DTSTART;TZID=America/Phoenix:20260327T100000
DTEND;TZID=America/Phoenix:20260330T180000
DTSTAMP:20260422T031611
CREATED:20260225T192132Z
LAST-MODIFIED:20260311T185551Z
UID:16688-1774605600-1774893600@wickenburgsocial.com
SUMMARY:Cowgirl up invitational exhibition and sale. The Sigler Western Museum
DESCRIPTION:The Sigler Western Museum\nOpening Weekend March 27\, 28 & 29\, 2026 \nOnline ticket sales for Opening Weekend can be found here. \nJoin us for a full weekend of celebrations. Western women’s art at its very best. \n\nPreview the 2026 Cowgirl Up! artsits’ works.\n\n\nALL EVENTS REQUIRE TICKETS\, click here for more details and to buy tickets. \n\nFriday kicks off with a special film preview of a new independent documentary\, Cowgirls: Women of Western Art in the Cultural Crossroads Learning Center (CCLC) at 1 p.m.. Later that afternoon will be the Cowgirl Up! artists award presentation in the big tent on Frontier Street. \nThen\, the 2026 sale starts in Miniature Gallery with a Silent Auction. Enjoy an appetizer buffet and drinks under the tent. \n\nSaturday Cowgirl Up! opens its doors for a public preview in the morning\, offering a first look at the galleries and a chance to own Cowgirl Up! miniature artworks. Late morning features a book signing and a presentation titled: Mac Schweitzer: A Southwest Maverick and Her Art with author and historian Dr. Ann Hedlund. \nThe festivities continue into the evening with the Main Gallery silent auction\, followed by dinner and our annual live auction/fundraiser beneath the big tent. \n\nSunday at Cowgirl Up! begins with breakfast under the big tent while artists set up for the annual Quick Draw outside the Museum on Frontier Street. As the morning continues\, visitors can watch new works take shape before the auction begins where the freshly created pieces are sold. It’s an annual gathering and flurry of creativity you won’t want to miss. \nThrough the late morning and early afternoon\, the Main Museum\, Cultural Crossroads Learning Center\, and Ranch Dressing remain open for visitors\, with all Cowgirl Up! art available for purchase and buyers can take home their “minis” that afternoon. \nIt’s a straightforward\, Western-style finish to the Cowgirl Up! weekend\, bringing guests together from all over the country for art\, food\, and community. \n 
URL:https://wickenburgsocial.com/event/cowgirl-up-invitational-exhibition-and-sale-the-sigler-western-museum/
LOCATION:Sigler Western Museum\, Sigler Western Museum
CATEGORIES:Art Exhibition
ATTACH;FMTTYPE=image/webp:https://wickenburgsocial.com/wp-content/uploads/2026/02/Cowgirl-Up.webp
END:VEVENT
END:VCALENDAR