BEGIN:VCALENDAR
VERSION:2.0
PRODID:-//Wickenburg Social - ECPv6.15.20//NONSGML v1.0//EN
CALSCALE:GREGORIAN
METHOD:PUBLISH
X-WR-CALNAME:Wickenburg Social
X-ORIGINAL-URL:https://wickenburgsocial.com
X-WR-CALDESC:Events for Wickenburg Social
REFRESH-INTERVAL;VALUE=DURATION:PT1H
X-Robots-Tag:noindex
X-PUBLISHED-TTL:PT1H
BEGIN:VTIMEZONE
TZID:America/Phoenix
BEGIN:STANDARD
TZOFFSETFROM:-0700
TZOFFSETTO:-0700
TZNAME:MST
DTSTART:20230101T000000
END:STANDARD
END:VTIMEZONE
BEGIN:VEVENT
DTSTART;TZID=America/Phoenix:20240315T080000
DTEND;TZID=America/Phoenix:20240316T170000
DTSTAMP:20260422T191802
CREATED:20240307T193150Z
LAST-MODIFIED:20260311T185706Z
UID:9189-1710489600-1710608400@wickenburgsocial.com
SUMMARY:The Horse Sale At Rancho Rio presented by Tito's
DESCRIPTION:Join us for the 10th Annual The Horse Sale at Rancho Rio presented by Tito’s Handmade Vodka. The Premier Rope Horse Sale in the World approximately 65 consignments sell at this spectacular\, one-of-a-kind\, once-a-year event. A Yost Events\, Inc. production in The Team Roping Capital of the World\, Wickenburg\, Arizona. \n \nSince it’s inception\, The Horse Sale at Rancho Rio has become the leading invitational rope horse sale in the country and the premier horse sale of the Team Roping Capital of the World. Held each year in Wickenburg\, Arizona\, in conjunction with the National Team Roping Finals\, The Horse Sale at Rancho Rio is limited to 65 top rope horses and draws consignors and buyers from all over the U.S. and Canada. \nRenowned auctioneer Steve Friskup\, who takes the auction block each year under the big top tent at Rancho Rio\, equates going to The Horse Sale in Wickenburg to going to a Barrett-Jackson Auto Auction. \n“If you’re a primo car buyer\, you go to a Barrett-Jackson auction\,” Friskup said in an interview with The Team Roping Journal. “It’s the same way with ropers. You can expect to take in an overload of your favorite sport.” \nIn 2021\, the seventh edition of The Horse Sale at Rancho Rio moved more than $2.5 million in rope horses and has surpassed the million-dollar mark in total sales since 2019. Some of the top names in the rodeo and the performance horse industry have come through the sale ring including Trevor Brazile\, Patrick Smith\, Brad Lund\, Bobby Lewis\, Turner Performance Horses\, Wilson Cattle Company and many more. \nMost consignors have their horses in Arizona for buyers to watch at jackpots well in advance of the sale and we encourage buyers to take advantage. Reach out\, do your research\, and go try any horses that you might be interested in. \nThe 2024 Horse Sale at Rancho Rio presented by Tito’s Handmade Vodka will offer a full team roping preview on Friday\, March 15\, with the auction slated to take place on Saturday\, March 16. Follow Rancho Rio on Facebook for updates.
URL:https://wickenburgsocial.com/event/the-horse-sale-at-rancho-rio-presented-by-titos/
LOCATION:Rancho Rio Arena Wickenburg AZ\, 1325 N Tegner St 1325 North Tegner Street Wickenburg\, AZ 85390\, Wickenburg\, AZ\, 85390\, United States
CATEGORIES:Event,Team Roping
ATTACH;FMTTYPE=image/webp:https://wickenburgsocial.com/wp-content/uploads/2024/03/Wickenburg-Social-THE-HORSE-SALE-AT-RANCHO-RIO.webp
END:VEVENT
END:VCALENDAR