BEGIN:VCALENDAR
VERSION:2.0
PRODID:-//Wickenburg Social - ECPv6.15.20//NONSGML v1.0//EN
CALSCALE:GREGORIAN
METHOD:PUBLISH
X-ORIGINAL-URL:https://wickenburgsocial.com
X-WR-CALDESC:Events for Wickenburg Social
REFRESH-INTERVAL;VALUE=DURATION:PT1H
X-Robots-Tag:noindex
X-PUBLISHED-TTL:PT1H
BEGIN:VTIMEZONE
TZID:America/Phoenix
BEGIN:STANDARD
TZOFFSETFROM:-0700
TZOFFSETTO:-0700
TZNAME:MST
DTSTART:20250101T000000
END:STANDARD
END:VTIMEZONE
BEGIN:VEVENT
DTSTART;TZID=America/Phoenix:20260212T080000
DTEND;TZID=America/Phoenix:20260215T170000
DTSTAMP:20260424T131341
CREATED:20260202T212303Z
LAST-MODIFIED:20260311T185617Z
UID:16259-1770883200-1771174800@wickenburgsocial.com
SUMMARY:77th  ANNUAL GOLD RUSH DAYS
DESCRIPTION:Wickenburg is heading into a busy stretch with a good mix of Western events\, local theater\, school spirit\, community gatherings\, and summer planning. If you are looking for things to do around town in the coming days and weeks\, there is plenty on the calendar. 								\n					\n				\n		\n					\n		\n				\n												\n											\n															\n											4D Barrels\n										\n									\n				\n		\n				\n									One of this week’s most Wickenburg happenings is Wickenburg Arizona 4D Barrels at Rancho Rio on Thursday\, April 23. The 4D Jackpot starts at 12 noon\, with books opening at 8:30 a.m. The event is cash only and enter on-site\, with a $45 entry fee plus a $15 arena fee per horse. The flyer also notes a Queen of Hearts 4D Sidepot and morning 10’s from 8:30 to 11:30 a.m. Rancho Rio always brings a strong local crowd\, and this one fits Wickenburg perfectly. 								\n				\n					\n				\n		\n					\n				\n							\n			\n						\n		\n						\n					\n				\n		\n					\n		\n				\n									Also on Thursday\, April 23\, it is Senior Night and the final regular season game for Lions Baseball. First pitch is set for 5 p.m. at Sunset Park as the Lions take on Flagstaff Christian. It is a good chance for the community to show up\, support the team\, and cheer on the seniors. 								\n				\n		\n				\n												\n											\n															\n											Lions Baseball\n										\n									\n				\n					\n				\n		\n					\n				\n							\n			\n						\n		\n						\n					\n				\n		\n					\n		\n				\n												\n											\n															\n											Spring Musical\n										\n									\n				\n		\n				\n									For a different kind of night out\, Wickenburg High School Theatre Arts Department will present “The Addams Family” School Edition. It adds a fun local theater option to the week and gives families and friends another reason to get out and support hometown talent. 								\n				\n					\n				\n		\n					\n				\n							\n			\n						\n		\n						\n					\n				\n		\n					\n		\n				\n									Art lovers also have two strong reasons to get out and explore Wickenburg right now. Cowgirl Up! at Sigler Western Museum continues to celebrate the spirit\, talent\, and perspective of women in Western art\, while Wild Things at Wickenburg Art Center & Gallery offers another local stop for visitors who want to take in current exhibits and support the arts scene in town. Together\, they add even more variety to the coming weeks\, especially for anyone looking for something beyond sports\, rodeo\, and community events. 								\n				\n		\n				\n												\n											\n															\n											"Cowgirl Up!" Exhibition and Sale\, running from March 27 through May 31\n										\n									\n				\n					\n				\n		\n					\n				\n												\n											\n															\n											Wild Things at the Wickenburg Art Center & Gallery Thru May 23\n										\n									\n					\n				\n		\n					\n				\n							\n			\n						\n		\n						\n					\n				\n		\n					\n		\n				\n									Looking just a few days ahead\, Wickenburg will celebrate Arbor Day with the Roots of Freedom Arbor Day Celebration and Tree Giveaway on Wednesday\, April 29\, from 11 a.m. to 1 p.m. at Coffinger Park. The event includes a free tree giveaway for Wickenburg residents\, a ceremonial tree planting\, and free hot dogs\, chips\, and cookies. Residents are encouraged to arrive at 11 a.m. to receive a raffle ticket for the tree giveaway. 								\n				\n		\n				\n												\n											\n															\n											Roots of Freedom Arbor Day Celebration\n										\n									\n				\n					\n				\n		\n					\n				\n							\n			\n						\n		\n						\n					\n				\n		\n					\n		\n				\n												\n											\n															\n											Vulture City Old West Show\n										\n									\n				\n		\n				\n									As the calendar turns to May\, another solid local outing is set for May 2 when Old West Shows return to Vulture City Ghost Town. It is the kind of event that blends Arizona history\, Western atmosphere\, and a memorable setting just outside Wickenburg. For locals and visitors alike\, Vulture City remains one of the area’s most distinctive attractions. 								\n				\n					\n				\n		\n					\n				\n							\n			\n						\n		\n						\n					\n				\n		\n					\n		\n				\n									Community support is also on the calendar in May. K9 Konnection will host its Fur a Good Paws Breakfast Buffet on Sunday\, May 17\, 2026\, from 9 a.m. to 11 a.m. at Elks Lodge No. 2160\, 123 Frontier Street in Wickenburg. The breakfast buffet is $15 per person\, open to the public\, and will help support the organization’s Community Health and Wellness Program. The menu includes scrambled eggs\, ham\, sausage\, bacon\, hash browns\, juice\, coffee\, and mini donuts\, plus a free raffle.   								\n				\n		\n				\n																														\n				\n					\n				\n		\n					\n				\n							\n			\n						\n		\n						\n					\n				\n		\n					\n		\n				\n												\n											\n															\n											2026 Winter Spring Program \n										\n									\n				\n		\n				\n									Families can also start planning ahead for summer now. Registration is open for the Wickenburg Wahoos Swim Team\, StarFish Swim Lessons\, StarBabies/StarTots Swim Lessons\, and Explorer’s Summer Camp. And for one of the easiest dates to circle on the calendar\, the Town of Wickenburg Pool is set to open on Monday\, May 25\, from 12 p.m. to 5 p.m.\, with free admission on opening day.   								\n				\n					\n				\n		\n					\n				\n												\n											\n															\n											More Spring Programs\n										\n									\n				\n							\n			\n						\n		\n						\n					\n				\n		\n					\n				\n									From rodeo action and theater to baseball\, community events\, and family-friendly summer planning\, Wickenburg has a lot happening right now. If you like keeping up with what is going on around town\, this is a good stretch to stay plugged in. 								\n					\n				\n		\n					\n				\n									Keep checking back with Wickenburg Social for more local events\, seasonal guides\, and community updates from around town.
URL:https://wickenburgsocial.com/event/77-th-annual-gold-rush-days/
LOCATION:Downtown Wickenburg
CATEGORIES:Community Event,Event
ATTACH;FMTTYPE=image/webp:https://wickenburgsocial.com/wp-content/uploads/2026/02/77-TH-ANNUAL-GOLD-RUSH-DAYS-Header.webp
END:VEVENT
BEGIN:VEVENT
DTSTART;TZID=America/Phoenix:20260213T080000
DTEND;TZID=America/Phoenix:20260215T170000
DTSTAMP:20260424T131341
CREATED:20260202T213835Z
LAST-MODIFIED:20260311T185616Z
UID:16263-1770969600-1771174800@wickenburgsocial.com
SUMMARY:The 60th Annual Wickenburg Art Club Artisans’ Fair
DESCRIPTION:Wickenburg is heading into a busy stretch with a good mix of Western events\, local theater\, school spirit\, community gatherings\, and summer planning. If you are looking for things to do around town in the coming days and weeks\, there is plenty on the calendar. 								\n					\n				\n		\n					\n		\n				\n												\n											\n															\n											4D Barrels\n										\n									\n				\n		\n				\n									One of this week’s most Wickenburg happenings is Wickenburg Arizona 4D Barrels at Rancho Rio on Thursday\, April 23. The 4D Jackpot starts at 12 noon\, with books opening at 8:30 a.m. The event is cash only and enter on-site\, with a $45 entry fee plus a $15 arena fee per horse. The flyer also notes a Queen of Hearts 4D Sidepot and morning 10’s from 8:30 to 11:30 a.m. Rancho Rio always brings a strong local crowd\, and this one fits Wickenburg perfectly. 								\n				\n					\n				\n		\n					\n				\n							\n			\n						\n		\n						\n					\n				\n		\n					\n		\n				\n									Also on Thursday\, April 23\, it is Senior Night and the final regular season game for Lions Baseball. First pitch is set for 5 p.m. at Sunset Park as the Lions take on Flagstaff Christian. It is a good chance for the community to show up\, support the team\, and cheer on the seniors. 								\n				\n		\n				\n												\n											\n															\n											Lions Baseball\n										\n									\n				\n					\n				\n		\n					\n				\n							\n			\n						\n		\n						\n					\n				\n		\n					\n		\n				\n												\n											\n															\n											Spring Musical\n										\n									\n				\n		\n				\n									For a different kind of night out\, Wickenburg High School Theatre Arts Department will present “The Addams Family” School Edition. It adds a fun local theater option to the week and gives families and friends another reason to get out and support hometown talent. 								\n				\n					\n				\n		\n					\n				\n							\n			\n						\n		\n						\n					\n				\n		\n					\n		\n				\n									Art lovers also have two strong reasons to get out and explore Wickenburg right now. Cowgirl Up! at Sigler Western Museum continues to celebrate the spirit\, talent\, and perspective of women in Western art\, while Wild Things at Wickenburg Art Center & Gallery offers another local stop for visitors who want to take in current exhibits and support the arts scene in town. Together\, they add even more variety to the coming weeks\, especially for anyone looking for something beyond sports\, rodeo\, and community events. 								\n				\n		\n				\n												\n											\n															\n											"Cowgirl Up!" Exhibition and Sale\, running from March 27 through May 31\n										\n									\n				\n					\n				\n		\n					\n				\n												\n											\n															\n											Wild Things at the Wickenburg Art Center & Gallery Thru May 23\n										\n									\n					\n				\n		\n					\n				\n							\n			\n						\n		\n						\n					\n				\n		\n					\n		\n				\n									Looking just a few days ahead\, Wickenburg will celebrate Arbor Day with the Roots of Freedom Arbor Day Celebration and Tree Giveaway on Wednesday\, April 29\, from 11 a.m. to 1 p.m. at Coffinger Park. The event includes a free tree giveaway for Wickenburg residents\, a ceremonial tree planting\, and free hot dogs\, chips\, and cookies. Residents are encouraged to arrive at 11 a.m. to receive a raffle ticket for the tree giveaway. 								\n				\n		\n				\n												\n											\n															\n											Roots of Freedom Arbor Day Celebration\n										\n									\n				\n					\n				\n		\n					\n				\n							\n			\n						\n		\n						\n					\n				\n		\n					\n		\n				\n												\n											\n															\n											Vulture City Old West Show\n										\n									\n				\n		\n				\n									As the calendar turns to May\, another solid local outing is set for May 2 when Old West Shows return to Vulture City Ghost Town. It is the kind of event that blends Arizona history\, Western atmosphere\, and a memorable setting just outside Wickenburg. For locals and visitors alike\, Vulture City remains one of the area’s most distinctive attractions. 								\n				\n					\n				\n		\n					\n				\n							\n			\n						\n		\n						\n					\n				\n		\n					\n		\n				\n									Community support is also on the calendar in May. K9 Konnection will host its Fur a Good Paws Breakfast Buffet on Sunday\, May 17\, 2026\, from 9 a.m. to 11 a.m. at Elks Lodge No. 2160\, 123 Frontier Street in Wickenburg. The breakfast buffet is $15 per person\, open to the public\, and will help support the organization’s Community Health and Wellness Program. The menu includes scrambled eggs\, ham\, sausage\, bacon\, hash browns\, juice\, coffee\, and mini donuts\, plus a free raffle.   								\n				\n		\n				\n																														\n				\n					\n				\n		\n					\n				\n							\n			\n						\n		\n						\n					\n				\n		\n					\n		\n				\n												\n											\n															\n											2026 Winter Spring Program \n										\n									\n				\n		\n				\n									Families can also start planning ahead for summer now. Registration is open for the Wickenburg Wahoos Swim Team\, StarFish Swim Lessons\, StarBabies/StarTots Swim Lessons\, and Explorer’s Summer Camp. And for one of the easiest dates to circle on the calendar\, the Town of Wickenburg Pool is set to open on Monday\, May 25\, from 12 p.m. to 5 p.m.\, with free admission on opening day.   								\n				\n					\n				\n		\n					\n				\n												\n											\n															\n											More Spring Programs\n										\n									\n				\n							\n			\n						\n		\n						\n					\n				\n		\n					\n				\n									From rodeo action and theater to baseball\, community events\, and family-friendly summer planning\, Wickenburg has a lot happening right now. If you like keeping up with what is going on around town\, this is a good stretch to stay plugged in. 								\n					\n				\n		\n					\n				\n									Keep checking back with Wickenburg Social for more local events\, seasonal guides\, and community updates from around town.
URL:https://wickenburgsocial.com/event/the-60th-annual-wickenburg-art-club-artisans-fair/
LOCATION:Stone Park\, 164 E. Apache\, Wickenburg\, AZ\, 85390
CATEGORIES:Art Exhibition,Community Event,Event
ATTACH;FMTTYPE=image/webp:https://wickenburgsocial.com/wp-content/uploads/2026/02/ARTISAN-FAIR-Poster-copy.webp
END:VEVENT
BEGIN:VEVENT
DTSTART;VALUE=DATE:20260214
DTEND;VALUE=DATE:20260216
DTSTAMP:20260424T131341
CREATED:20260202T215027Z
LAST-MODIFIED:20260311T185615Z
UID:16268-1771027200-1771199999@wickenburgsocial.com
SUMMARY:77th Annual Gold Rush Days - National Senior Pro Rodeo Association (NSPRA) Rodeo & Open Rough Stock
DESCRIPTION:Wickenburg is heading into a busy stretch with a good mix of Western events\, local theater\, school spirit\, community gatherings\, and summer planning. If you are looking for things to do around town in the coming days and weeks\, there is plenty on the calendar. 								\n					\n				\n		\n					\n		\n				\n												\n											\n															\n											4D Barrels\n										\n									\n				\n		\n				\n									One of this week’s most Wickenburg happenings is Wickenburg Arizona 4D Barrels at Rancho Rio on Thursday\, April 23. The 4D Jackpot starts at 12 noon\, with books opening at 8:30 a.m. The event is cash only and enter on-site\, with a $45 entry fee plus a $15 arena fee per horse. The flyer also notes a Queen of Hearts 4D Sidepot and morning 10’s from 8:30 to 11:30 a.m. Rancho Rio always brings a strong local crowd\, and this one fits Wickenburg perfectly. 								\n				\n					\n				\n		\n					\n				\n							\n			\n						\n		\n						\n					\n				\n		\n					\n		\n				\n									Also on Thursday\, April 23\, it is Senior Night and the final regular season game for Lions Baseball. First pitch is set for 5 p.m. at Sunset Park as the Lions take on Flagstaff Christian. It is a good chance for the community to show up\, support the team\, and cheer on the seniors. 								\n				\n		\n				\n												\n											\n															\n											Lions Baseball\n										\n									\n				\n					\n				\n		\n					\n				\n							\n			\n						\n		\n						\n					\n				\n		\n					\n		\n				\n												\n											\n															\n											Spring Musical\n										\n									\n				\n		\n				\n									For a different kind of night out\, Wickenburg High School Theatre Arts Department will present “The Addams Family” School Edition. It adds a fun local theater option to the week and gives families and friends another reason to get out and support hometown talent. 								\n				\n					\n				\n		\n					\n				\n							\n			\n						\n		\n						\n					\n				\n		\n					\n		\n				\n									Art lovers also have two strong reasons to get out and explore Wickenburg right now. Cowgirl Up! at Sigler Western Museum continues to celebrate the spirit\, talent\, and perspective of women in Western art\, while Wild Things at Wickenburg Art Center & Gallery offers another local stop for visitors who want to take in current exhibits and support the arts scene in town. Together\, they add even more variety to the coming weeks\, especially for anyone looking for something beyond sports\, rodeo\, and community events. 								\n				\n		\n				\n												\n											\n															\n											"Cowgirl Up!" Exhibition and Sale\, running from March 27 through May 31\n										\n									\n				\n					\n				\n		\n					\n				\n												\n											\n															\n											Wild Things at the Wickenburg Art Center & Gallery Thru May 23\n										\n									\n					\n				\n		\n					\n				\n							\n			\n						\n		\n						\n					\n				\n		\n					\n		\n				\n									Looking just a few days ahead\, Wickenburg will celebrate Arbor Day with the Roots of Freedom Arbor Day Celebration and Tree Giveaway on Wednesday\, April 29\, from 11 a.m. to 1 p.m. at Coffinger Park. The event includes a free tree giveaway for Wickenburg residents\, a ceremonial tree planting\, and free hot dogs\, chips\, and cookies. Residents are encouraged to arrive at 11 a.m. to receive a raffle ticket for the tree giveaway. 								\n				\n		\n				\n												\n											\n															\n											Roots of Freedom Arbor Day Celebration\n										\n									\n				\n					\n				\n		\n					\n				\n							\n			\n						\n		\n						\n					\n				\n		\n					\n		\n				\n												\n											\n															\n											Vulture City Old West Show\n										\n									\n				\n		\n				\n									As the calendar turns to May\, another solid local outing is set for May 2 when Old West Shows return to Vulture City Ghost Town. It is the kind of event that blends Arizona history\, Western atmosphere\, and a memorable setting just outside Wickenburg. For locals and visitors alike\, Vulture City remains one of the area’s most distinctive attractions. 								\n				\n					\n				\n		\n					\n				\n							\n			\n						\n		\n						\n					\n				\n		\n					\n		\n				\n									Community support is also on the calendar in May. K9 Konnection will host its Fur a Good Paws Breakfast Buffet on Sunday\, May 17\, 2026\, from 9 a.m. to 11 a.m. at Elks Lodge No. 2160\, 123 Frontier Street in Wickenburg. The breakfast buffet is $15 per person\, open to the public\, and will help support the organization’s Community Health and Wellness Program. The menu includes scrambled eggs\, ham\, sausage\, bacon\, hash browns\, juice\, coffee\, and mini donuts\, plus a free raffle.   								\n				\n		\n				\n																														\n				\n					\n				\n		\n					\n				\n							\n			\n						\n		\n						\n					\n				\n		\n					\n		\n				\n												\n											\n															\n											2026 Winter Spring Program \n										\n									\n				\n		\n				\n									Families can also start planning ahead for summer now. Registration is open for the Wickenburg Wahoos Swim Team\, StarFish Swim Lessons\, StarBabies/StarTots Swim Lessons\, and Explorer’s Summer Camp. And for one of the easiest dates to circle on the calendar\, the Town of Wickenburg Pool is set to open on Monday\, May 25\, from 12 p.m. to 5 p.m.\, with free admission on opening day.   								\n				\n					\n				\n		\n					\n				\n												\n											\n															\n											More Spring Programs\n										\n									\n				\n							\n			\n						\n		\n						\n					\n				\n		\n					\n				\n									From rodeo action and theater to baseball\, community events\, and family-friendly summer planning\, Wickenburg has a lot happening right now. If you like keeping up with what is going on around town\, this is a good stretch to stay plugged in. 								\n					\n				\n		\n					\n				\n									Keep checking back with Wickenburg Social for more local events\, seasonal guides\, and community updates from around town.
URL:https://wickenburgsocial.com/event/77th-annual-gold-rush-days-national-senior-pro-rodeo-association-nspra-rodeo-open-rough-stock/
LOCATION:Everett Bowman Arena\, Everett Bowman Arena
CATEGORIES:Community Event,Event,Rodeo
ATTACH;FMTTYPE=image/webp:https://wickenburgsocial.com/wp-content/uploads/2026/02/image-1.webp
END:VEVENT
BEGIN:VEVENT
DTSTART;TZID=America/Phoenix:20260220T080000
DTEND;TZID=America/Phoenix:20260221T170000
DTSTAMP:20260424T131341
CREATED:20260204T160411Z
LAST-MODIFIED:20260311T185613Z
UID:16378-1771574400-1771693200@wickenburgsocial.com
SUMMARY:Cowgirl Cadillacs at Flying E Ranch
DESCRIPTION:Wickenburg is heading into a busy stretch with a good mix of Western events\, local theater\, school spirit\, community gatherings\, and summer planning. If you are looking for things to do around town in the coming days and weeks\, there is plenty on the calendar. 								\n					\n				\n		\n					\n		\n				\n												\n											\n															\n											4D Barrels\n										\n									\n				\n		\n				\n									One of this week’s most Wickenburg happenings is Wickenburg Arizona 4D Barrels at Rancho Rio on Thursday\, April 23. The 4D Jackpot starts at 12 noon\, with books opening at 8:30 a.m. The event is cash only and enter on-site\, with a $45 entry fee plus a $15 arena fee per horse. The flyer also notes a Queen of Hearts 4D Sidepot and morning 10’s from 8:30 to 11:30 a.m. Rancho Rio always brings a strong local crowd\, and this one fits Wickenburg perfectly. 								\n				\n					\n				\n		\n					\n				\n							\n			\n						\n		\n						\n					\n				\n		\n					\n		\n				\n									Also on Thursday\, April 23\, it is Senior Night and the final regular season game for Lions Baseball. First pitch is set for 5 p.m. at Sunset Park as the Lions take on Flagstaff Christian. It is a good chance for the community to show up\, support the team\, and cheer on the seniors. 								\n				\n		\n				\n												\n											\n															\n											Lions Baseball\n										\n									\n				\n					\n				\n		\n					\n				\n							\n			\n						\n		\n						\n					\n				\n		\n					\n		\n				\n												\n											\n															\n											Spring Musical\n										\n									\n				\n		\n				\n									For a different kind of night out\, Wickenburg High School Theatre Arts Department will present “The Addams Family” School Edition. It adds a fun local theater option to the week and gives families and friends another reason to get out and support hometown talent. 								\n				\n					\n				\n		\n					\n				\n							\n			\n						\n		\n						\n					\n				\n		\n					\n		\n				\n									Art lovers also have two strong reasons to get out and explore Wickenburg right now. Cowgirl Up! at Sigler Western Museum continues to celebrate the spirit\, talent\, and perspective of women in Western art\, while Wild Things at Wickenburg Art Center & Gallery offers another local stop for visitors who want to take in current exhibits and support the arts scene in town. Together\, they add even more variety to the coming weeks\, especially for anyone looking for something beyond sports\, rodeo\, and community events. 								\n				\n		\n				\n												\n											\n															\n											"Cowgirl Up!" Exhibition and Sale\, running from March 27 through May 31\n										\n									\n				\n					\n				\n		\n					\n				\n												\n											\n															\n											Wild Things at the Wickenburg Art Center & Gallery Thru May 23\n										\n									\n					\n				\n		\n					\n				\n							\n			\n						\n		\n						\n					\n				\n		\n					\n		\n				\n									Looking just a few days ahead\, Wickenburg will celebrate Arbor Day with the Roots of Freedom Arbor Day Celebration and Tree Giveaway on Wednesday\, April 29\, from 11 a.m. to 1 p.m. at Coffinger Park. The event includes a free tree giveaway for Wickenburg residents\, a ceremonial tree planting\, and free hot dogs\, chips\, and cookies. Residents are encouraged to arrive at 11 a.m. to receive a raffle ticket for the tree giveaway. 								\n				\n		\n				\n												\n											\n															\n											Roots of Freedom Arbor Day Celebration\n										\n									\n				\n					\n				\n		\n					\n				\n							\n			\n						\n		\n						\n					\n				\n		\n					\n		\n				\n												\n											\n															\n											Vulture City Old West Show\n										\n									\n				\n		\n				\n									As the calendar turns to May\, another solid local outing is set for May 2 when Old West Shows return to Vulture City Ghost Town. It is the kind of event that blends Arizona history\, Western atmosphere\, and a memorable setting just outside Wickenburg. For locals and visitors alike\, Vulture City remains one of the area’s most distinctive attractions. 								\n				\n					\n				\n		\n					\n				\n							\n			\n						\n		\n						\n					\n				\n		\n					\n		\n				\n									Community support is also on the calendar in May. K9 Konnection will host its Fur a Good Paws Breakfast Buffet on Sunday\, May 17\, 2026\, from 9 a.m. to 11 a.m. at Elks Lodge No. 2160\, 123 Frontier Street in Wickenburg. The breakfast buffet is $15 per person\, open to the public\, and will help support the organization’s Community Health and Wellness Program. The menu includes scrambled eggs\, ham\, sausage\, bacon\, hash browns\, juice\, coffee\, and mini donuts\, plus a free raffle.   								\n				\n		\n				\n																														\n				\n					\n				\n		\n					\n				\n							\n			\n						\n		\n						\n					\n				\n		\n					\n		\n				\n												\n											\n															\n											2026 Winter Spring Program \n										\n									\n				\n		\n				\n									Families can also start planning ahead for summer now. Registration is open for the Wickenburg Wahoos Swim Team\, StarFish Swim Lessons\, StarBabies/StarTots Swim Lessons\, and Explorer’s Summer Camp. And for one of the easiest dates to circle on the calendar\, the Town of Wickenburg Pool is set to open on Monday\, May 25\, from 12 p.m. to 5 p.m.\, with free admission on opening day.   								\n				\n					\n				\n		\n					\n				\n												\n											\n															\n											More Spring Programs\n										\n									\n				\n							\n			\n						\n		\n						\n					\n				\n		\n					\n				\n									From rodeo action and theater to baseball\, community events\, and family-friendly summer planning\, Wickenburg has a lot happening right now. If you like keeping up with what is going on around town\, this is a good stretch to stay plugged in. 								\n					\n				\n		\n					\n				\n									Keep checking back with Wickenburg Social for more local events\, seasonal guides\, and community updates from around town.
URL:https://wickenburgsocial.com/event/cowgirl-cadillacs-at-flying-e-ranch/
LOCATION:Flying E Ranch\, 2801 W Wickenburg Way\, Wickenburg\, AZ\, 85390\, United States
CATEGORIES:Event,Horse Sales
ATTACH;FMTTYPE=image/webp:https://wickenburgsocial.com/wp-content/uploads/2026/02/Cowgirl-Cadilacs-event-header.webp
END:VEVENT
END:VCALENDAR